BEGIN:VCALENDAR
VERSION:2.0
PRODID:-//hacksw/handcal//NONSGML v1.0//EN
BEGIN:VEVENT
SUMMARY:Tournoi de Carnaval du VBCS
UID:2593d989-84ca-4837-9836-c2d7b86e0a54
DTSTART:20260221T080000Z
DTEND:20260221T170000Z
LOCATION:Localisation 36 Rue du Languedoc 67100 STRASBOURG
CATEGORIES:Sportif
STATUS:
DESCRIPTION:<p>Toute les informations et inscriptions sur le site
 suivant : </p>
 
 <p><a
 href="https://my.weezevent.com/tournoi-de-carnaval" target="_blank"
 rel="noreferrer
 noopener">https://my.weezevent.com/tournoi-de-carnaval</a></p>
URL;VALUE=URI:https://www.cdvb67.com/evenements/2026/02/21/tournoi-de-carnaval-du-vbcs-2401571
END:VEVENT
END:VCALENDAR
